BEGIN:VCALENDAR
VERSION:2.0
PRODID:-//Jong Gelre - ECPv4.6.21//NONSGML v1.0//EN
CALSCALE:GREGORIAN
METHOD:PUBLISH
X-WR-CALNAME:Jong Gelre
X-ORIGINAL-URL:http://www.jong-gelre.nl
X-WR-CALDESC:Events for Jong Gelre
BEGIN:VEVENT
DTSTART;VALUE=DATE:20190207
DTEND;VALUE=DATE:20190209
DTSTAMP:20260423T163244
CREATED:20181202T112443Z
LAST-MODIFIED:20181202T121534Z
UID:347-1549497600-1549670399@www.jong-gelre.nl
SUMMARY:AJK weekend - KUHN fabriek
DESCRIPTION:Het AJK Vorden-Warnsveld gaat in het weekend van 8 februari naar de KUHN fabriek in Frankrijk!\nMeer weten? Hou de Facebook van Jong Gelre en AJK Vorden-Warnsveld in de gaten. \n
URL:http://www.jong-gelre.nl/evenement/ajk-weekend-kuhn-fabriek/
ATTACH;FMTTYPE=image/png:http://www.jong-gelre.nl/wp-content/uploads/jg3.png
END:VEVENT
END:VCALENDAR