BEGIN:VCALENDAR
VERSION:2.0
PRODID:-//Jong Gelre - ECPv4.6.21//NONSGML v1.0//EN
CALSCALE:GREGORIAN
METHOD:PUBLISH
X-WR-CALNAME:Jong Gelre
X-ORIGINAL-URL:http://www.jong-gelre.nl
X-WR-CALDESC:Events for Jong Gelre
BEGIN:VEVENT
DTSTART;VALUE=DATE:20180702
DTEND;VALUE=DATE:20180706
DTSTAMP:20260423T223929
CREATED:20180710T115306Z
LAST-MODIFIED:20180710T115306Z
UID:114-1530489600-1530835199@www.jong-gelre.nl
SUMMARY:Fiets4Daagse
DESCRIPTION:Fietsvierdaagse Jong Gelre Vorden-Warnsveld. 2018\nVan maandag 2 tot en met donderdag 5 juli a.s. organiseert Jong Gelre Vorden-Warnsveld haar jaarlijkse fietsvierdaagse. Per avond is een route uitgezet van circa 25 kilometer. Dit jaar gaan de fietsroutes door de omgeving van Hengelo/Bekveld\,  Almen\,  Steenderen/Bronkhorst en Lochem/Barchem. U kunt starten tussen 18.00 en 18.30 vanaf de parkeerplaats bij het Kulturhus (voorheen: het Dorpscentrum) te Vorden. Het inschrijfgeld bedraagt € 6\,00 voor vier avonden inclusief medaille en € 5\,00 exclusief medaille. Ook kunt u ervoor kiezen om maar één of twee avonden mee te fietsen\, opgeven kan dan op de avond zelf. De inschrijfkosten bedragen € 2\,00 per avond. Halverwege wordt een pauze gehouden en zorgen wij voor drinken en een lekkere versnapering. Opgeven voor de gehele fietsvierdaagse kan vanaf maandag 2 juli bij de start van de fietsvierdaagse. Meedoen aan de fietsvierdaagse is op eigen risico. Voor meer informatie kunt u een e-mail sturen naar info@jong-gelre.nl. \n
URL:http://www.jong-gelre.nl/evenement/evenement-1/
LOCATION:Gasthuisstraat 13\, Doetinchem\, Nederland
CATEGORIES:Jong Gelre
ATTACH;FMTTYPE=image/jpeg:http://www.jong-gelre.nl/wp-content/uploads/fietsvierdaagse-jonggelre.jpg
ORGANIZER;CN="Naam%20Organisator":MAILTO:info@jong-gelre.nl
END:VEVENT
END:VCALENDAR