BEGIN:VCALENDAR
VERSION:2.0
PRODID:-//Jong Gelre - ECPv4.6.21//NONSGML v1.0//EN
CALSCALE:GREGORIAN
METHOD:PUBLISH
X-WR-CALNAME:Jong Gelre
X-ORIGINAL-URL:http://www.jong-gelre.nl
X-WR-CALDESC:Events for Jong Gelre
BEGIN:VEVENT
DTSTART;TZID=UTC+0:20190112T190000
DTEND;TZID=UTC+0:20190112T230000
DTSTAMP:20260423T181003
CREATED:20180724T090604Z
LAST-MODIFIED:20181202T111831Z
UID:243-1547319600-1547334000@www.jong-gelre.nl
SUMMARY:Filmavond
DESCRIPTION: \n
URL:http://www.jong-gelre.nl/evenement/filmavond/
LOCATION:Raadhuisstraat 6\, Vorden\, Nederland
ATTACH;FMTTYPE=image/jpeg:http://www.jong-gelre.nl/wp-content/uploads/jonggelre-filmavond.jpg
END:VEVENT
END:VCALENDAR