BEGIN:VCALENDAR
VERSION:2.0
PRODID:-//Jong Gelre - ECPv4.6.21//NONSGML v1.0//EN
CALSCALE:GREGORIAN
METHOD:PUBLISH
X-WR-CALNAME:Jong Gelre
X-ORIGINAL-URL:http://www.jong-gelre.nl
X-WR-CALDESC:Events for Jong Gelre
BEGIN:VEVENT
DTSTART;TZID=UTC+0:20181214T193000
DTEND;TZID=UTC+0:20181214T233000
DTSTAMP:20260423T180241
CREATED:20180930T182808Z
LAST-MODIFIED:20181202T113816Z
UID:336-1544815800-1544830200@www.jong-gelre.nl
SUMMARY:Sinterklaasavond Jong Gelre
DESCRIPTION: \n
URL:http://www.jong-gelre.nl/evenement/sinterklaasavond-jong-gelre/
ATTACH;FMTTYPE=image/jpeg:http://www.jong-gelre.nl/wp-content/uploads/jg8.jpg
END:VEVENT
END:VCALENDAR