BEGIN:VCALENDAR
VERSION:2.0
PRODID:-//Jong Gelre - ECPv4.6.21//NONSGML v1.0//EN
CALSCALE:GREGORIAN
METHOD:PUBLISH
X-WR-CALNAME:Jong Gelre
X-ORIGINAL-URL:http://www.jong-gelre.nl
X-WR-CALDESC:Events for Jong Gelre
BEGIN:VEVENT
DTSTART;VALUE=DATE:20180708
DTEND;VALUE=DATE:20180709
DTSTAMP:20260423T223633
CREATED:20180723T122538Z
LAST-MODIFIED:20180723T122538Z
UID:224-1531008000-1531094399@www.jong-gelre.nl
SUMMARY:Zeskamp en BBQ
DESCRIPTION:Zeskamp en BBQ\, de eindactiviteit van jong gelre \n
URL:http://www.jong-gelre.nl/evenement/zeskamp-en-bbq/
ATTACH;FMTTYPE=image/jpeg:http://www.jong-gelre.nl/wp-content/uploads/jonggelre-bbq.jpg
END:VEVENT
END:VCALENDAR